BEGIN:VCALENDAR
VERSION:2.0
PRODID:-//Democratic Party of Roosevelt County - ECPv6.15.20//NONSGML v1.0//EN
CALSCALE:GREGORIAN
METHOD:PUBLISH
X-WR-CALNAME:Democratic Party of Roosevelt County
X-ORIGINAL-URL:https://rooseveltdemocrats.org
X-WR-CALDESC:Events for Democratic Party of Roosevelt County
REFRESH-INTERVAL;VALUE=DURATION:PT1H
X-Robots-Tag:noindex
X-PUBLISHED-TTL:PT1H
BEGIN:VTIMEZONE
TZID:America/Denver
BEGIN:DAYLIGHT
TZOFFSETFROM:-0700
TZOFFSETTO:-0600
TZNAME:MDT
DTSTART:20250309T090000
END:DAYLIGHT
BEGIN:STANDARD
TZOFFSETFROM:-0600
TZOFFSETTO:-0700
TZNAME:MST
DTSTART:20251102T080000
END:STANDARD
BEGIN:DAYLIGHT
TZOFFSETFROM:-0700
TZOFFSETTO:-0600
TZNAME:MDT
DTSTART:20260308T090000
END:DAYLIGHT
BEGIN:STANDARD
TZOFFSETFROM:-0600
TZOFFSETTO:-0700
TZNAME:MST
DTSTART:20261101T080000
END:STANDARD
BEGIN:DAYLIGHT
TZOFFSETFROM:-0700
TZOFFSETTO:-0600
TZNAME:MDT
DTSTART:20270314T090000
END:DAYLIGHT
BEGIN:STANDARD
TZOFFSETFROM:-0600
TZOFFSETTO:-0700
TZNAME:MST
DTSTART:20271107T080000
END:STANDARD
END:VTIMEZONE
BEGIN:VEVENT
DTSTART;TZID=America/Denver:20260211T180000
DTEND;TZID=America/Denver:20260211T190000
DTSTAMP:20260425T090752
CREATED:20260209T065120Z
LAST-MODIFIED:20260209T065120Z
UID:460-1770832800-1770836400@rooseveltdemocrats.org
SUMMARY:DPRC Monthly Meeting
DESCRIPTION:The Democratic Party of Roosevelt County will meet at 6:00 p.m. on Wednesday\, February 11\, 2026 for our regular monthly meeting.  We’ll gather at Do Drop In (123 South Main) in Portales.  Topics of discussion will include the Democratic Party of New Mexico Pre-Primary Convention\, DPNM caucuses\, Portales City Council and town hall reports\, updates on recent and upcoming community projects\, our March 28 No Kings Rally\, and more.  For more information\, email dprcnm@gmail.com. New people are invited and encouraged to attend.
URL:https://rooseveltdemocrats.org/event/dprc-monthly-meeting/
LOCATION:NM
END:VEVENT
END:VCALENDAR